BEGIN:VCALENDAR
VERSION:2.0
PRODID:-//ビバ・フローラ - ECPv4.6//NONSGML v1.0//EN
CALSCALE:GREGORIAN
METHOD:PUBLISH
X-WR-CALNAME:ビバ・フローラ
X-ORIGINAL-URL:http://viva.setagaya-hp.or.jp
X-WR-CALDESC:Events for ビバ・フローラ
BEGIN:VEVENT
DTSTART;TZID=Asia/Tokyo:20230628T120000
DTEND;TZID=Asia/Tokyo:20230628T130000
DTSTAMP:20260421T204937
CREATED:20230619T040130Z
LAST-MODIFIED:20230619T040130Z
UID:9683-1687953600-1687957200@viva.setagaya-hp.or.jp
SUMMARY:本日のランチ
DESCRIPTION:海老ピラフ\n鶏の香草パン粉焼き\nグリーンサラダ\nじゃがいものスープ\nバナナヨーグルト \n
URL:http://viva.setagaya-hp.or.jp/event/%e6%9c%ac%e6%97%a5%e3%81%ae%e3%83%a9%e3%83%b3%e3%83%81-1422/
END:VEVENT
END:VCALENDAR