BEGIN:VCALENDAR
VERSION:2.0
PRODID:-//ビバ・フローラ - ECPv4.6//NONSGML v1.0//EN
CALSCALE:GREGORIAN
METHOD:PUBLISH
X-WR-CALNAME:ビバ・フローラ
X-ORIGINAL-URL:http://viva.setagaya-hp.or.jp
X-WR-CALDESC:Events for ビバ・フローラ
BEGIN:VEVENT
DTSTART;TZID=Asia/Tokyo:20230712T120000
DTEND;TZID=Asia/Tokyo:20230712T130000
DTSTAMP:20260421T142110
CREATED:20230705T060142Z
LAST-MODIFIED:20230705T060142Z
UID:9727-1689163200-1689166800@viva.setagaya-hp.or.jp
SUMMARY:本日のランチ
DESCRIPTION:ごはん\n鶏肉の味噌焼き\nかぼちゃの含め煮\n和風ツナサラダ\n豆腐のすまし汁\nバナナ \n
URL:http://viva.setagaya-hp.or.jp/event/%e6%9c%ac%e6%97%a5%e3%81%ae%e3%83%a9%e3%83%b3%e3%83%81-1436/
END:VEVENT
END:VCALENDAR