BEGIN:VCALENDAR
VERSION:2.0
PRODID:-//ビバ・フローラ - ECPv4.6//NONSGML v1.0//EN
CALSCALE:GREGORIAN
METHOD:PUBLISH
X-WR-CALNAME:ビバ・フローラ
X-ORIGINAL-URL:http://viva.setagaya-hp.or.jp
X-WR-CALDESC:Events for ビバ・フローラ
BEGIN:VEVENT
DTSTART;TZID=Asia/Tokyo:20230815T120000
DTEND;TZID=Asia/Tokyo:20230815T130000
DTSTAMP:20260422T051751
CREATED:20230807T051746Z
LAST-MODIFIED:20230807T051746Z
UID:9803-1692100800-1692104400@viva.setagaya-hp.or.jp
SUMMARY:本日のランチ
DESCRIPTION:ごはん\n豚しょうが焼き\nキャベツと厚揚げの和風煮\nかぼちゃサラダ\n小松菜の味噌汁\nふどうゼリー \n
URL:http://viva.setagaya-hp.or.jp/event/%e6%9c%ac%e6%97%a5%e3%81%ae%e3%83%a9%e3%83%b3%e3%83%81-1469/
END:VEVENT
END:VCALENDAR