BEGIN:VCALENDAR
VERSION:2.0
PRODID:-//ビバ・フローラ - ECPv4.6//NONSGML v1.0//EN
CALSCALE:GREGORIAN
METHOD:PUBLISH
X-WR-CALNAME:ビバ・フローラ
X-ORIGINAL-URL:http://viva.setagaya-hp.or.jp
X-WR-CALDESC:Events for ビバ・フローラ
BEGIN:VEVENT
DTSTART;TZID=Asia/Tokyo:20230912T120000
DTEND;TZID=Asia/Tokyo:20230912T130000
DTSTAMP:20260422T063932
CREATED:20230904T014507Z
LAST-MODIFIED:20230904T014507Z
UID:9869-1694520000-1694523600@viva.setagaya-hp.or.jp
SUMMARY:本日のランチ
DESCRIPTION:ごはん\n鶏肉の味噌焼き\nかぼちゃの含め煮\n野菜サラダ\n豆腐のすまし汁\nりんごのコンポート \n
URL:http://viva.setagaya-hp.or.jp/event/%e6%9c%ac%e6%97%a5%e3%81%ae%e3%83%a9%e3%83%b3%e3%83%81-1496/
END:VEVENT
END:VCALENDAR