BEGIN:VCALENDAR
VERSION:2.0
PRODID:-//ビバ・フローラ - ECPv4.6//NONSGML v1.0//EN
CALSCALE:GREGORIAN
METHOD:PUBLISH
X-WR-CALNAME:ビバ・フローラ
X-ORIGINAL-URL:http://viva.setagaya-hp.or.jp
X-WR-CALDESC:Events for ビバ・フローラ
BEGIN:VEVENT
DTSTART;TZID=Asia/Tokyo:20230917T120000
DTEND;TZID=Asia/Tokyo:20230917T130000
DTSTAMP:20260421T201627
CREATED:20230911T012915Z
LAST-MODIFIED:20230911T012915Z
UID:10083-1694952000-1694955600@viva.setagaya-hp.or.jp
SUMMARY:本日のランチ
DESCRIPTION:ごはん\nあじの南蛮漬け\n冬瓜と鶏肉の旨煮\n蒸しなすのサラダ\nもやしの味噌汁\nフルーツ缶 \n
URL:http://viva.setagaya-hp.or.jp/event/%e6%9c%ac%e6%97%a5%e3%81%ae%e3%83%a9%e3%83%b3%e3%83%81-1501/
END:VEVENT
END:VCALENDAR