BEGIN:VCALENDAR
VERSION:2.0
PRODID:-//ビバ・フローラ - ECPv4.6//NONSGML v1.0//EN
CALSCALE:GREGORIAN
METHOD:PUBLISH
X-WR-CALNAME:ビバ・フローラ
X-ORIGINAL-URL:http://viva.setagaya-hp.or.jp
X-WR-CALDESC:Events for ビバ・フローラ
BEGIN:VEVENT
DTSTART;TZID=Asia/Tokyo:20230918T120000
DTEND;TZID=Asia/Tokyo:20230918T130000
DTSTAMP:20260421T215117
CREATED:20230911T012938Z
LAST-MODIFIED:20230911T012938Z
UID:10085-1695038400-1695042000@viva.setagaya-hp.or.jp
SUMMARY:本日のランチ
DESCRIPTION:【敬老の日献立】\n巻き寿司\n天ぷら\nキャベツとカニの酢の物\n麩のすまし汁\n梨のコンポート \n
URL:http://viva.setagaya-hp.or.jp/event/%e6%9c%ac%e6%97%a5%e3%81%ae%e3%83%a9%e3%83%b3%e3%83%81-1502/
END:VEVENT
END:VCALENDAR