BEGIN:VCALENDAR
VERSION:2.0
PRODID:-//ビバ・フローラ - ECPv4.6//NONSGML v1.0//EN
CALSCALE:GREGORIAN
METHOD:PUBLISH
X-WR-CALNAME:ビバ・フローラ
X-ORIGINAL-URL:http://viva.setagaya-hp.or.jp
X-WR-CALDESC:Events for ビバ・フローラ
BEGIN:VEVENT
DTSTART;TZID=Asia/Tokyo:20230930T120000
DTEND;TZID=Asia/Tokyo:20230930T130000
DTSTAMP:20260421T233301
CREATED:20230919T054524Z
LAST-MODIFIED:20230919T054524Z
UID:10116-1696075200-1696078800@viva.setagaya-hp.or.jp
SUMMARY:本日のランチ
DESCRIPTION:ハヤシライス\n夏みかん野菜サラダ\nポトフ風スープ\nピーチゼリー \n
URL:http://viva.setagaya-hp.or.jp/event/%e6%9c%ac%e6%97%a5%e3%81%ae%e3%83%a9%e3%83%b3%e3%83%81-1513/
END:VEVENT
END:VCALENDAR