BEGIN:VCALENDAR
VERSION:2.0
PRODID:-//ビバ・フローラ - ECPv4.6//NONSGML v1.0//EN
CALSCALE:GREGORIAN
METHOD:PUBLISH
X-WR-CALNAME:ビバ・フローラ
X-ORIGINAL-URL:http://viva.setagaya-hp.or.jp
X-WR-CALDESC:Events for ビバ・フローラ
BEGIN:VEVENT
DTSTART;TZID=Asia/Tokyo:20231013T120000
DTEND;TZID=Asia/Tokyo:20231013T130000
DTSTAMP:20260421T235027
CREATED:20231004T082741Z
LAST-MODIFIED:20231004T082741Z
UID:10145-1697198400-1697202000@viva.setagaya-hp.or.jp
SUMMARY:本日のランチ
DESCRIPTION:ごはん\n豚ヒレ竜田揚げ\nひじきの五目煮\nほうれん草のピーナッツ和え\nあさりの味噌汁\nヨーグルトストロベリーソース \n
URL:http://viva.setagaya-hp.or.jp/event/%e6%9c%ac%e6%97%a5%e3%81%ae%e3%83%a9%e3%83%b3%e3%83%81-1526/
END:VEVENT
END:VCALENDAR