BEGIN:VCALENDAR
VERSION:2.0
PRODID:-//ビバ・フローラ - ECPv4.6//NONSGML v1.0//EN
CALSCALE:GREGORIAN
METHOD:PUBLISH
X-WR-CALNAME:ビバ・フローラ
X-ORIGINAL-URL:http://viva.setagaya-hp.or.jp
X-WR-CALDESC:Events for ビバ・フローラ
BEGIN:VEVENT
DTSTART;TZID=Asia/Tokyo:20231017T120000
DTEND;TZID=Asia/Tokyo:20231017T130000
DTSTAMP:20260422T050633
CREATED:20231011T020614Z
LAST-MODIFIED:20231011T020614Z
UID:10153-1697544000-1697547600@viva.setagaya-hp.or.jp
SUMMARY:本日のランチ
DESCRIPTION:ごはん\nアジフライ\nラタトゥイユ\nマカロニサラダ\nコンソメスープ\nフルーツ缶 \n
URL:http://viva.setagaya-hp.or.jp/event/%e6%9c%ac%e6%97%a5%e3%81%ae%e3%83%a9%e3%83%b3%e3%83%81-1530/
END:VEVENT
END:VCALENDAR