BEGIN:VCALENDAR
VERSION:2.0
PRODID:-//ビバ・フローラ - ECPv4.6//NONSGML v1.0//EN
CALSCALE:GREGORIAN
METHOD:PUBLISH
X-WR-CALNAME:ビバ・フローラ
X-ORIGINAL-URL:http://viva.setagaya-hp.or.jp
X-WR-CALDESC:Events for ビバ・フローラ
BEGIN:VEVENT
DTSTART;TZID=Asia/Tokyo:20231020T120000
DTEND;TZID=Asia/Tokyo:20231020T130000
DTSTAMP:20260422T005629
CREATED:20231011T020722Z
LAST-MODIFIED:20231011T020722Z
UID:10159-1697803200-1697806800@viva.setagaya-hp.or.jp
SUMMARY:本日のランチ
DESCRIPTION:舞茸ごはん\nサワラのごま照り焼き\nかぼちゃの含め煮\n春菊のおひたし\n白菜のすまし汁\n柿 \n
URL:http://viva.setagaya-hp.or.jp/event/%e6%9c%ac%e6%97%a5%e3%81%ae%e3%83%a9%e3%83%b3%e3%83%81-1533/
END:VEVENT
END:VCALENDAR