BEGIN:VCALENDAR
VERSION:2.0
PRODID:-//ビバ・フローラ - ECPv4.6//NONSGML v1.0//EN
CALSCALE:GREGORIAN
METHOD:PUBLISH
X-WR-CALNAME:ビバ・フローラ
X-ORIGINAL-URL:http://viva.setagaya-hp.or.jp
X-WR-CALDESC:Events for ビバ・フローラ
BEGIN:VEVENT
DTSTART;TZID=Asia/Tokyo:20231112T120000
DTEND;TZID=Asia/Tokyo:20231112T130000
DTSTAMP:20260422T024433
CREATED:20231108T060341Z
LAST-MODIFIED:20231108T060341Z
UID:10216-1699790400-1699794000@viva.setagaya-hp.or.jp
SUMMARY:本日のランチ
DESCRIPTION:ごはん\n赤魚の粕漬け焼き\n炒り鶏\nきゅうりとカニの酢の物\nもやしの味噌汁\nフルーツ缶 \n
URL:http://viva.setagaya-hp.or.jp/event/%e6%9c%ac%e6%97%a5%e3%81%ae%e3%83%a9%e3%83%b3%e3%83%81-1555/
END:VEVENT
END:VCALENDAR