BEGIN:VCALENDAR
VERSION:2.0
PRODID:-//ビバ・フローラ - ECPv4.6//NONSGML v1.0//EN
CALSCALE:GREGORIAN
METHOD:PUBLISH
X-WR-CALNAME:ビバ・フローラ
X-ORIGINAL-URL:http://viva.setagaya-hp.or.jp
X-WR-CALDESC:Events for ビバ・フローラ
BEGIN:VEVENT
DTSTART;TZID=Asia/Tokyo:20231118T120000
DTEND;TZID=Asia/Tokyo:20231118T130000
DTSTAMP:20260421T222420
CREATED:20231108T060814Z
LAST-MODIFIED:20231108T060814Z
UID:10228-1700308800-1700312400@viva.setagaya-hp.or.jp
SUMMARY:本日のランチ
DESCRIPTION:親子丼\nじゃがいものきんぴら\nきゅうりと焼豚のピリ辛和え\nあさりの味噌汁\nフルーツ缶 \n
URL:http://viva.setagaya-hp.or.jp/event/%e6%9c%ac%e6%97%a5%e3%81%ae%e3%83%a9%e3%83%b3%e3%83%81-1561/
END:VEVENT
END:VCALENDAR