BEGIN:VCALENDAR
VERSION:2.0
PRODID:-//ビバ・フローラ - ECPv4.6//NONSGML v1.0//EN
CALSCALE:GREGORIAN
METHOD:PUBLISH
X-WR-CALNAME:ビバ・フローラ
X-ORIGINAL-URL:http://viva.setagaya-hp.or.jp
X-WR-CALDESC:Events for ビバ・フローラ
BEGIN:VEVENT
DTSTART;TZID=Asia/Tokyo:20231124T120000
DTEND;TZID=Asia/Tokyo:20231124T130000
DTSTAMP:20260421T190351
CREATED:20231113T062106Z
LAST-MODIFIED:20231113T062106Z
UID:10246-1700827200-1700830800@viva.setagaya-hp.or.jp
SUMMARY:本日のランチ
DESCRIPTION:ハヤシライス\nカッテージチーズ入りサラダ\nミネストローネ\nりんごのコンポート \n
URL:http://viva.setagaya-hp.or.jp/event/%e6%9c%ac%e6%97%a5%e3%81%ae%e3%83%a9%e3%83%b3%e3%83%81-1567/
END:VEVENT
END:VCALENDAR