BEGIN:VCALENDAR
VERSION:2.0
PRODID:-//ビバ・フローラ - ECPv4.6//NONSGML v1.0//EN
CALSCALE:GREGORIAN
METHOD:PUBLISH
X-WR-CALNAME:ビバ・フローラ
X-ORIGINAL-URL:http://viva.setagaya-hp.or.jp
X-WR-CALDESC:Events for ビバ・フローラ
BEGIN:VEVENT
DTSTART;TZID=Asia/Tokyo:20231209T120000
DTEND;TZID=Asia/Tokyo:20231209T130000
DTSTAMP:20260421T172144
CREATED:20231129T041358Z
LAST-MODIFIED:20231129T041358Z
UID:10281-1702123200-1702126800@viva.setagaya-hp.or.jp
SUMMARY:本日のランチ
DESCRIPTION:ゆかりごはん\n厚揚げ野菜炒め\nぶり大根煮\n小松菜のおかか和え\nきのこのすまし汁\nフルーツ缶 \n
URL:http://viva.setagaya-hp.or.jp/event/%e6%9c%ac%e6%97%a5%e3%81%ae%e3%83%a9%e3%83%b3%e3%83%81-1581/
END:VEVENT
END:VCALENDAR