BEGIN:VCALENDAR
VERSION:2.0
PRODID:-//ビバ・フローラ - ECPv4.6//NONSGML v1.0//EN
CALSCALE:GREGORIAN
METHOD:PUBLISH
X-WR-CALNAME:ビバ・フローラ
X-ORIGINAL-URL:http://viva.setagaya-hp.or.jp
X-WR-CALDESC:Events for ビバ・フローラ
BEGIN:VEVENT
DTSTART;TZID=Asia/Tokyo:20231221T120000
DTEND;TZID=Asia/Tokyo:20231221T130000
DTSTAMP:20260421T174708
CREATED:20231211T051126Z
LAST-MODIFIED:20231211T051126Z
UID:10323-1703160000-1703163600@viva.setagaya-hp.or.jp
SUMMARY:本日のランチ
DESCRIPTION:ごはん\n豚ヒレ竜田揚げ\nかぼちゃのあずき煮\nツナひじき入りサラダ\n麩のすまし汁\nフルーツ缶 \n
URL:http://viva.setagaya-hp.or.jp/event/%e6%9c%ac%e6%97%a5%e3%81%ae%e3%83%a9%e3%83%b3%e3%83%81-1593/
END:VEVENT
END:VCALENDAR