BEGIN:VCALENDAR
VERSION:2.0
PRODID:-//ビバ・フローラ - ECPv4.6//NONSGML v1.0//EN
CALSCALE:GREGORIAN
METHOD:PUBLISH
X-WR-CALNAME:ビバ・フローラ
X-ORIGINAL-URL:http://viva.setagaya-hp.or.jp
X-WR-CALDESC:Events for ビバ・フローラ
BEGIN:VEVENT
DTSTART;TZID=Asia/Tokyo:20231227T120000
DTEND;TZID=Asia/Tokyo:20231227T130000
DTSTAMP:20260421T183051
CREATED:20231218T054117Z
LAST-MODIFIED:20231218T054117Z
UID:10339-1703678400-1703682000@viva.setagaya-hp.or.jp
SUMMARY:本日のランチ
DESCRIPTION:栗ごはん\n鮭チーズフライ オーロラソースがけ\n冬瓜野菜の甘辛煮\nトマトと青じそのナムル\nあさりの味噌汁\nフルーツ缶 \n
URL:http://viva.setagaya-hp.or.jp/event/%e6%9c%ac%e6%97%a5%e3%81%ae%e3%83%a9%e3%83%b3%e3%83%81-1598/
END:VEVENT
END:VCALENDAR