BEGIN:VCALENDAR
VERSION:2.0
PRODID:-//ビバ・フローラ - ECPv4.6//NONSGML v1.0//EN
CALSCALE:GREGORIAN
METHOD:PUBLISH
X-WR-CALNAME:ビバ・フローラ
X-ORIGINAL-URL:http://viva.setagaya-hp.or.jp
X-WR-CALDESC:Events for ビバ・フローラ
BEGIN:VEVENT
DTSTART;TZID=Asia/Tokyo:20180613T120000
DTEND;TZID=Asia/Tokyo:20180613T130000
DTSTAMP:20260419T193634
CREATED:20180628T053757Z
LAST-MODIFIED:20180709T021509Z
UID:1439-1528891200-1528894800@viva.setagaya-hp.or.jp
SUMMARY:本日のランチ
DESCRIPTION: \n菜飯\n厚揚げ野菜炒め\n蒸しナスのサラダ　&#x1f346;\nほうれん草の菜種和え\nフルーツ缶\nはんぺんのすまし汁 \n
URL:http://viva.setagaya-hp.or.jp/event/%e6%9c%ac%e6%97%a5%e3%81%ae%e3%83%a9%e3%83%b3%e3%83%81-16/
END:VEVENT
END:VCALENDAR