BEGIN:VCALENDAR
VERSION:2.0
PRODID:-//ビバ・フローラ - ECPv4.6//NONSGML v1.0//EN
CALSCALE:GREGORIAN
METHOD:PUBLISH
X-WR-CALNAME:ビバ・フローラ
X-ORIGINAL-URL:http://viva.setagaya-hp.or.jp
X-WR-CALDESC:Events for ビバ・フローラ
BEGIN:VEVENT
DTSTART;TZID=Asia/Tokyo:20240125T120000
DTEND;TZID=Asia/Tokyo:20240125T130000
DTSTAMP:20260425T002004
CREATED:20240117T001122Z
LAST-MODIFIED:20240117T001122Z
UID:10414-1706184000-1706187600@viva.setagaya-hp.or.jp
SUMMARY:本日のランチ
DESCRIPTION:ごはん\nカジキの野菜甘酢あんかけ\nかぼちゃの含め煮\n野菜のごま和え\nわかめの味噌汁\nフルーツ缶 \n
URL:http://viva.setagaya-hp.or.jp/event/%e6%9c%ac%e6%97%a5%e3%81%ae%e3%83%a9%e3%83%b3%e3%83%81-1626/
END:VEVENT
END:VCALENDAR