BEGIN:VCALENDAR
VERSION:2.0
PRODID:-//ビバ・フローラ - ECPv4.6//NONSGML v1.0//EN
CALSCALE:GREGORIAN
METHOD:PUBLISH
X-WR-CALNAME:ビバ・フローラ
X-ORIGINAL-URL:http://viva.setagaya-hp.or.jp
X-WR-CALDESC:Events for ビバ・フローラ
BEGIN:VEVENT
DTSTART;TZID=Asia/Tokyo:20240201T120000
DTEND;TZID=Asia/Tokyo:20240201T130000
DTSTAMP:20260424T201525
CREATED:20240124T015907Z
LAST-MODIFIED:20240124T015907Z
UID:10429-1706788800-1706792400@viva.setagaya-hp.or.jp
SUMMARY:本日のランチ
DESCRIPTION:ごはん\nカジキの照り焼き\n高野豆腐の含め煮\nさつまいもサラダ\nあさりのすまし汁\nキウイフルーツ \n
URL:http://viva.setagaya-hp.or.jp/event/%e6%9c%ac%e6%97%a5%e3%81%ae%e3%83%a9%e3%83%b3%e3%83%81-1633/
END:VEVENT
END:VCALENDAR