BEGIN:VCALENDAR
VERSION:2.0
PRODID:-//ビバ・フローラ - ECPv4.6//NONSGML v1.0//EN
CALSCALE:GREGORIAN
METHOD:PUBLISH
X-WR-CALNAME:ビバ・フローラ
X-ORIGINAL-URL:http://viva.setagaya-hp.or.jp
X-WR-CALDESC:Events for ビバ・フローラ
BEGIN:VEVENT
DTSTART;TZID=Asia/Tokyo:20240223T120000
DTEND;TZID=Asia/Tokyo:20240223T130000
DTSTAMP:20260424T182007
CREATED:20240214T040208Z
LAST-MODIFIED:20240214T040208Z
UID:10638-1708689600-1708693200@viva.setagaya-hp.or.jp
SUMMARY:本日のランチ
DESCRIPTION:舞茸ごはん\nサワラのごま照り焼き\nふき土佐煮\n大根とわかめのサラダ\n豆腐のすまし汁\nパインゼリー \n
URL:http://viva.setagaya-hp.or.jp/event/%e6%9c%ac%e6%97%a5%e3%81%ae%e3%83%a9%e3%83%b3%e3%83%81-1655/
END:VEVENT
END:VCALENDAR