BEGIN:VCALENDAR
VERSION:2.0
PRODID:-//ビバ・フローラ - ECPv4.6//NONSGML v1.0//EN
CALSCALE:GREGORIAN
METHOD:PUBLISH
X-WR-CALNAME:ビバ・フローラ
X-ORIGINAL-URL:http://viva.setagaya-hp.or.jp
X-WR-CALDESC:Events for ビバ・フローラ
BEGIN:VEVENT
DTSTART;TZID=Asia/Tokyo:20240424T120000
DTEND;TZID=Asia/Tokyo:20240424T130000
DTSTAMP:20260424T092618
CREATED:20240417T004423Z
LAST-MODIFIED:20240417T004423Z
UID:10780-1713960000-1713963600@viva.setagaya-hp.or.jp
SUMMARY:本日のランチ
DESCRIPTION:ごはん\nカレイの揚げ煮\nふきと厚揚げの煮物\n菜の花の錦糸甘酢和え\n豚汁\nフルーツ缶 \n
URL:http://viva.setagaya-hp.or.jp/event/%e6%9c%ac%e6%97%a5%e3%81%ae%e3%83%a9%e3%83%b3%e3%83%81-1714/
END:VEVENT
END:VCALENDAR