BEGIN:VCALENDAR
VERSION:2.0
PRODID:-//ビバ・フローラ - ECPv4.6//NONSGML v1.0//EN
CALSCALE:GREGORIAN
METHOD:PUBLISH
X-WR-CALNAME:ビバ・フローラ
X-ORIGINAL-URL:http://viva.setagaya-hp.or.jp
X-WR-CALDESC:Events for ビバ・フローラ
BEGIN:VEVENT
DTSTART;TZID=Asia/Tokyo:20240611T120000
DTEND;TZID=Asia/Tokyo:20240611T130000
DTSTAMP:20260424T154352
CREATED:20240607T000501Z
LAST-MODIFIED:20240607T000501Z
UID:10906-1718107200-1718110800@viva.setagaya-hp.or.jp
SUMMARY:本日のランチ
DESCRIPTION:菜飯\nカジキの照り焼き\n白菜とエビの和風煮\nかぼちゃサラダ\nわかめの味噌汁\nバナナヨーグルト \n
URL:http://viva.setagaya-hp.or.jp/event/%e6%9c%ac%e6%97%a5%e3%81%ae%e3%83%a9%e3%83%b3%e3%83%81-1760/
END:VEVENT
END:VCALENDAR