BEGIN:VCALENDAR
VERSION:2.0
PRODID:-//ビバ・フローラ - ECPv4.6//NONSGML v1.0//EN
CALSCALE:GREGORIAN
METHOD:PUBLISH
X-WR-CALNAME:ビバ・フローラ
X-ORIGINAL-URL:http://viva.setagaya-hp.or.jp
X-WR-CALDESC:Events for ビバ・フローラ
BEGIN:VEVENT
DTSTART;TZID=Asia/Tokyo:20240613T120000
DTEND;TZID=Asia/Tokyo:20240613T130000
DTSTAMP:20260424T154521
CREATED:20240607T000826Z
LAST-MODIFIED:20240607T000826Z
UID:10910-1718280000-1718283600@viva.setagaya-hp.or.jp
SUMMARY:本日のランチ
DESCRIPTION:ごはん\nカレイの煮付け\nキャベツとあさりの白だし煮\nさつまいもサラダ\nしめじの味噌汁\nフルーツ缶 \n
URL:http://viva.setagaya-hp.or.jp/event/%e6%9c%ac%e6%97%a5%e3%81%ae%e3%83%a9%e3%83%b3%e3%83%81-1762/
END:VEVENT
END:VCALENDAR