BEGIN:VCALENDAR
VERSION:2.0
PRODID:-//ビバ・フローラ - ECPv4.6//NONSGML v1.0//EN
CALSCALE:GREGORIAN
METHOD:PUBLISH
X-WR-CALNAME:ビバ・フローラ
X-ORIGINAL-URL:http://viva.setagaya-hp.or.jp
X-WR-CALDESC:Events for ビバ・フローラ
BEGIN:VEVENT
DTSTART;TZID=Asia/Tokyo:20240705T120000
DTEND;TZID=Asia/Tokyo:20240705T130000
DTSTAMP:20260425T123629
CREATED:20240624T052954Z
LAST-MODIFIED:20240624T052954Z
UID:10958-1720180800-1720184400@viva.setagaya-hp.or.jp
SUMMARY:本日のランチ
DESCRIPTION:ちらし寿司\n豚肉となすの味噌炒め\n長芋短冊\nそうめん汁\nメロン \n
URL:http://viva.setagaya-hp.or.jp/event/%e6%9c%ac%e6%97%a5%e3%81%ae%e3%83%a9%e3%83%b3%e3%83%81-1783/
END:VEVENT
END:VCALENDAR