BEGIN:VCALENDAR
VERSION:2.0
PRODID:-//ビバ・フローラ - ECPv4.6//NONSGML v1.0//EN
CALSCALE:GREGORIAN
METHOD:PUBLISH
X-WR-CALNAME:ビバ・フローラ
X-ORIGINAL-URL:http://viva.setagaya-hp.or.jp
X-WR-CALDESC:Events for ビバ・フローラ
BEGIN:VEVENT
DTSTART;TZID=Asia/Tokyo:20240711T120000
DTEND;TZID=Asia/Tokyo:20240711T130000
DTSTAMP:20260425T034357
CREATED:20240703T035249Z
LAST-MODIFIED:20240703T035249Z
UID:10980-1720699200-1720702800@viva.setagaya-hp.or.jp
SUMMARY:本日のランチ
DESCRIPTION:ひじきごはん\nサバの塩焼き\n白菜と鶏そぼろの炒め煮\nかぼちゃレーズンサラダ\n麩のすまし汁\n青りんごゼリー \n
URL:http://viva.setagaya-hp.or.jp/event/%e6%9c%ac%e6%97%a5%e3%81%ae%e3%83%a9%e3%83%b3%e3%83%81-1789/
END:VEVENT
END:VCALENDAR