BEGIN:VCALENDAR
VERSION:2.0
PRODID:-//ビバ・フローラ - ECPv4.6//NONSGML v1.0//EN
CALSCALE:GREGORIAN
METHOD:PUBLISH
X-WR-CALNAME:ビバ・フローラ
X-ORIGINAL-URL:http://viva.setagaya-hp.or.jp
X-WR-CALDESC:Events for ビバ・フローラ
BEGIN:VEVENT
DTSTART;TZID=Asia/Tokyo:20240715T120000
DTEND;TZID=Asia/Tokyo:20240715T130000
DTSTAMP:20260424T221319
CREATED:20240710T012315Z
LAST-MODIFIED:20240710T012315Z
UID:11043-1721044800-1721048400@viva.setagaya-hp.or.jp
SUMMARY:本日のランチ
DESCRIPTION:わかめごはん\n赤魚の西京焼き\n肉じゃが\n温野菜サラダ\n舞茸のすまし汁\nフルーツ缶 \n
URL:http://viva.setagaya-hp.or.jp/event/%e6%9c%ac%e6%97%a5%e3%81%ae%e3%83%a9%e3%83%b3%e3%83%81-1793/
END:VEVENT
END:VCALENDAR