BEGIN:VCALENDAR
VERSION:2.0
PRODID:-//ビバ・フローラ - ECPv4.6//NONSGML v1.0//EN
CALSCALE:GREGORIAN
METHOD:PUBLISH
X-WR-CALNAME:ビバ・フローラ
X-ORIGINAL-URL:http://viva.setagaya-hp.or.jp
X-WR-CALDESC:Events for ビバ・フローラ
BEGIN:VEVENT
DTSTART;TZID=Asia/Tokyo:20180615T120000
DTEND;TZID=Asia/Tokyo:20180615T130000
DTSTAMP:20260419T175757
CREATED:20180628T054207Z
LAST-MODIFIED:20180709T021946Z
UID:1443-1529064000-1529067600@viva.setagaya-hp.or.jp
SUMMARY:本日のランチ
DESCRIPTION: \nごはん\n豚肉と茄子の味噌炒め\n大根の甘辛煮\nキャベツのツナ和え\nマンゴーヨーグルト\nお麩のすまし汁 \n
URL:http://viva.setagaya-hp.or.jp/event/%e6%9c%ac%e6%97%a5%e3%81%ae%e3%83%a9%e3%83%b3%e3%83%81-18/
END:VEVENT
END:VCALENDAR