BEGIN:VCALENDAR
VERSION:2.0
PRODID:-//ビバ・フローラ - ECPv4.6//NONSGML v1.0//EN
CALSCALE:GREGORIAN
METHOD:PUBLISH
X-WR-CALNAME:ビバ・フローラ
X-ORIGINAL-URL:http://viva.setagaya-hp.or.jp
X-WR-CALDESC:Events for ビバ・フローラ
BEGIN:VEVENT
DTSTART;TZID=Asia/Tokyo:20240727T120000
DTEND;TZID=Asia/Tokyo:20240727T130000
DTSTAMP:20260425T120624
CREATED:20240713T014531Z
LAST-MODIFIED:20240713T014531Z
UID:11068-1722081600-1722085200@viva.setagaya-hp.or.jp
SUMMARY:本日のランチ
DESCRIPTION:ごはん\n白身魚の磯辺揚げ\nなすそぼろあんかけ\nかぶの甘酢漬け\nわかめの味噌汁\nフルーツヨーグルト \n
URL:http://viva.setagaya-hp.or.jp/event/%e6%9c%ac%e6%97%a5%e3%81%ae%e3%83%a9%e3%83%b3%e3%83%81-1804/
END:VEVENT
END:VCALENDAR