BEGIN:VCALENDAR
VERSION:2.0
PRODID:-//ビバ・フローラ - ECPv4.6//NONSGML v1.0//EN
CALSCALE:GREGORIAN
METHOD:PUBLISH
X-WR-CALNAME:ビバ・フローラ
X-ORIGINAL-URL:http://viva.setagaya-hp.or.jp
X-WR-CALDESC:Events for ビバ・フローラ
BEGIN:VEVENT
DTSTART;TZID=Asia/Tokyo:20240802T120000
DTEND;TZID=Asia/Tokyo:20240802T130000
DTSTAMP:20260425T132140
CREATED:20240722T060820Z
LAST-MODIFIED:20240722T060820Z
UID:11081-1722600000-1722603600@viva.setagaya-hp.or.jp
SUMMARY:本日のランチ
DESCRIPTION:ごはん\nカレイの煮付け\n白菜と桜エビの含め煮\nさつまいもサラダ\nけんちん汁\n黒蜜ほうじ茶ゼリー \n
URL:http://viva.setagaya-hp.or.jp/event/%e6%9c%ac%e6%97%a5%e3%81%ae%e3%83%a9%e3%83%b3%e3%83%81-1810/
END:VEVENT
END:VCALENDAR