BEGIN:VCALENDAR
VERSION:2.0
PRODID:-//ビバ・フローラ - ECPv4.6//NONSGML v1.0//EN
CALSCALE:GREGORIAN
METHOD:PUBLISH
X-WR-CALNAME:ビバ・フローラ
X-ORIGINAL-URL:http://viva.setagaya-hp.or.jp
X-WR-CALDESC:Events for ビバ・フローラ
BEGIN:VEVENT
DTSTART;TZID=Asia/Tokyo:20240807T120000
DTEND;TZID=Asia/Tokyo:20240807T130000
DTSTAMP:20260425T034436
CREATED:20240802T062809Z
LAST-MODIFIED:20240802T062809Z
UID:11100-1723032000-1723035600@viva.setagaya-hp.or.jp
SUMMARY:本日のランチ
DESCRIPTION:ごはん\nカレイの唐揚げ\nなすそぼろあんかけ\nほうれん草の土佐酢和え\nかぶのすまし汁\nフルーツ缶 \n
URL:http://viva.setagaya-hp.or.jp/event/%e6%9c%ac%e6%97%a5%e3%81%ae%e3%83%a9%e3%83%b3%e3%83%81-1815/
END:VEVENT
END:VCALENDAR