BEGIN:VCALENDAR
VERSION:2.0
PRODID:-//ビバ・フローラ - ECPv4.6//NONSGML v1.0//EN
CALSCALE:GREGORIAN
METHOD:PUBLISH
X-WR-CALNAME:ビバ・フローラ
X-ORIGINAL-URL:http://viva.setagaya-hp.or.jp
X-WR-CALDESC:Events for ビバ・フローラ
BEGIN:VEVENT
DTSTART;TZID=Asia/Tokyo:20240916T120000
DTEND;TZID=Asia/Tokyo:20240916T130000
DTSTAMP:20260425T023042
CREATED:20240913T043254Z
LAST-MODIFIED:20240913T043254Z
UID:11204-1726488000-1726491600@viva.setagaya-hp.or.jp
SUMMARY:本日のランチ
DESCRIPTION:【敬老の日献立】\n巻き寿司\n天ぷら\nほうれん草のごま和え\n麩のすまし汁\n黒蜜ほうじ茶ゼリー \n
URL:http://viva.setagaya-hp.or.jp/event/%e6%9c%ac%e6%97%a5%e3%81%ae%e3%83%a9%e3%83%b3%e3%83%81-1854/
END:VEVENT
END:VCALENDAR