BEGIN:VCALENDAR
VERSION:2.0
PRODID:-//ビバ・フローラ - ECPv4.6//NONSGML v1.0//EN
CALSCALE:GREGORIAN
METHOD:PUBLISH
X-WR-CALNAME:ビバ・フローラ
X-ORIGINAL-URL:http://viva.setagaya-hp.or.jp
X-WR-CALDESC:Events for ビバ・フローラ
BEGIN:VEVENT
DTSTART;TZID=Asia/Tokyo:20241005T120000
DTEND;TZID=Asia/Tokyo:20241005T130000
DTSTAMP:20260425T134009
CREATED:20240925T064628Z
LAST-MODIFIED:20240925T064628Z
UID:11254-1728129600-1728133200@viva.setagaya-hp.or.jp
SUMMARY:本日のランチ
DESCRIPTION:ごはん\n豚肉となすの味噌炒め\n大根のエビあんかけ\nれんこんのごまサラダ\n豆腐のすまし汁\nフルーツ缶 \n
URL:http://viva.setagaya-hp.or.jp/event/%e6%9c%ac%e6%97%a5%e3%81%ae%e3%83%a9%e3%83%b3%e3%83%81-1872/
END:VEVENT
END:VCALENDAR