BEGIN:VCALENDAR
VERSION:2.0
PRODID:-//ビバ・フローラ - ECPv4.6//NONSGML v1.0//EN
CALSCALE:GREGORIAN
METHOD:PUBLISH
X-WR-CALNAME:ビバ・フローラ
X-ORIGINAL-URL:http://viva.setagaya-hp.or.jp
X-WR-CALDESC:Events for ビバ・フローラ
BEGIN:VEVENT
DTSTART;TZID=Asia/Tokyo:20241016T120000
DTEND;TZID=Asia/Tokyo:20241016T130000
DTSTAMP:20260425T104631
CREATED:20241009T074005Z
LAST-MODIFIED:20241009T074005Z
UID:11277-1729080000-1729083600@viva.setagaya-hp.or.jp
SUMMARY:本日のランチ
DESCRIPTION:エビピラフ\n鶏肉の香草パン粉焼き\nグリーンサラダ\nオニオンスープ\nぶどうゼリー \n
URL:http://viva.setagaya-hp.or.jp/event/%e6%9c%ac%e6%97%a5%e3%81%ae%e3%83%a9%e3%83%b3%e3%83%81-1883/
END:VEVENT
END:VCALENDAR