BEGIN:VCALENDAR
VERSION:2.0
PRODID:-//ビバ・フローラ - ECPv4.6//NONSGML v1.0//EN
CALSCALE:GREGORIAN
METHOD:PUBLISH
X-WR-CALNAME:ビバ・フローラ
X-ORIGINAL-URL:http://viva.setagaya-hp.or.jp
X-WR-CALDESC:Events for ビバ・フローラ
BEGIN:VEVENT
DTSTART;TZID=Asia/Tokyo:20241018T120000
DTEND;TZID=Asia/Tokyo:20241018T130000
DTSTAMP:20260425T104508
CREATED:20241009T074052Z
LAST-MODIFIED:20241009T074052Z
UID:11281-1729252800-1729256400@viva.setagaya-hp.or.jp
SUMMARY:本日のランチ
DESCRIPTION:ごはん\n豚ヒレ竜田揚げ\nかぶのエビあんかけ\nほうれん草のピーナッツ和え\nアサリの味噌汁\nヨーグルトブルーベリーソース \n
URL:http://viva.setagaya-hp.or.jp/event/%e6%9c%ac%e6%97%a5%e3%81%ae%e3%83%a9%e3%83%b3%e3%83%81-1885/
END:VEVENT
END:VCALENDAR