BEGIN:VCALENDAR
VERSION:2.0
PRODID:-//ビバ・フローラ - ECPv4.6//NONSGML v1.0//EN
CALSCALE:GREGORIAN
METHOD:PUBLISH
X-WR-CALNAME:ビバ・フローラ
X-ORIGINAL-URL:http://viva.setagaya-hp.or.jp
X-WR-CALDESC:Events for ビバ・フローラ
BEGIN:VEVENT
DTSTART;TZID=Asia/Tokyo:20241019T120000
DTEND;TZID=Asia/Tokyo:20241019T130000
DTSTAMP:20260425T104502
CREATED:20241009T074114Z
LAST-MODIFIED:20241009T074114Z
UID:11283-1729339200-1729342800@viva.setagaya-hp.or.jp
SUMMARY:本日のランチ
DESCRIPTION:バターロール\nジャム\nミートローフ\nマセドアンサラダ\nコーンポタージュ\n紅茶ゼリー \n
URL:http://viva.setagaya-hp.or.jp/event/%e6%9c%ac%e6%97%a5%e3%81%ae%e3%83%a9%e3%83%b3%e3%83%81-1886/
END:VEVENT
END:VCALENDAR