BEGIN:VCALENDAR
VERSION:2.0
PRODID:-//ビバ・フローラ - ECPv4.6//NONSGML v1.0//EN
CALSCALE:GREGORIAN
METHOD:PUBLISH
X-WR-CALNAME:ビバ・フローラ
X-ORIGINAL-URL:http://viva.setagaya-hp.or.jp
X-WR-CALDESC:Events for ビバ・フローラ
BEGIN:VEVENT
DTSTART;TZID=Asia/Tokyo:20241215T120000
DTEND;TZID=Asia/Tokyo:20241215T130000
DTSTAMP:20260425T001900
CREATED:20241212T054311Z
LAST-MODIFIED:20241212T054311Z
UID:11694-1734264000-1734267600@viva.setagaya-hp.or.jp
SUMMARY:本日のランチ
DESCRIPTION:クロワッサン\nビーフシチュー\nグリーンサラダ\nヨーグルトババロア \n
URL:http://viva.setagaya-hp.or.jp/event/%e6%9c%ac%e6%97%a5%e3%81%ae%e3%83%a9%e3%83%b3%e3%83%81-1941/
END:VEVENT
END:VCALENDAR