BEGIN:VCALENDAR
VERSION:2.0
PRODID:-//ビバ・フローラ - ECPv4.6//NONSGML v1.0//EN
CALSCALE:GREGORIAN
METHOD:PUBLISH
X-WR-CALNAME:ビバ・フローラ
X-ORIGINAL-URL:http://viva.setagaya-hp.or.jp
X-WR-CALDESC:Events for ビバ・フローラ
BEGIN:VEVENT
DTSTART;TZID=Asia/Tokyo:20250130T120000
DTEND;TZID=Asia/Tokyo:20250130T130000
DTSTAMP:20260425T151647
CREATED:20250121T015029Z
LAST-MODIFIED:20250121T015029Z
UID:11809-1738238400-1738242000@viva.setagaya-hp.or.jp
SUMMARY:本日のランチ
DESCRIPTION:サンドイッチ（玉子・ツナポテト）\n舌平目のカレー風味揚げ\nアボカドとエビのサラダ\n白菜の豆乳スープ\nマロンババロア \n
URL:http://viva.setagaya-hp.or.jp/event/%e6%9c%ac%e6%97%a5%e3%81%ae%e3%83%a9%e3%83%b3%e3%83%81-1984/
END:VEVENT
END:VCALENDAR