BEGIN:VCALENDAR
VERSION:2.0
PRODID:-//ビバ・フローラ - ECPv4.6//NONSGML v1.0//EN
CALSCALE:GREGORIAN
METHOD:PUBLISH
X-WR-CALNAME:ビバ・フローラ
X-ORIGINAL-URL:http://viva.setagaya-hp.or.jp
X-WR-CALDESC:Events for ビバ・フローラ
BEGIN:VEVENT
DTSTART;TZID=Asia/Tokyo:20250307T120000
DTEND;TZID=Asia/Tokyo:20250307T130000
DTSTAMP:20260425T122210
CREATED:20250227T022433Z
LAST-MODIFIED:20250227T022433Z
UID:11923-1741348800-1741352400@viva.setagaya-hp.or.jp
SUMMARY:本日のランチ
DESCRIPTION:ごはん\n白身魚の磯辺揚げ\nなすとピーマンのしぎ煮\nかぶのゆず漬け\nアサリのすまし汁\nりんごのコンポート \n
URL:http://viva.setagaya-hp.or.jp/event/%e6%9c%ac%e6%97%a5%e3%81%ae%e3%83%a9%e3%83%b3%e3%83%81-2019/
END:VEVENT
END:VCALENDAR