BEGIN:VCALENDAR
VERSION:2.0
PRODID:-//ビバ・フローラ - ECPv4.6//NONSGML v1.0//EN
CALSCALE:GREGORIAN
METHOD:PUBLISH
X-WR-CALNAME:ビバ・フローラ
X-ORIGINAL-URL:http://viva.setagaya-hp.or.jp
X-WR-CALDESC:Events for ビバ・フローラ
BEGIN:VEVENT
DTSTART;TZID=Asia/Tokyo:20250311T120000
DTEND;TZID=Asia/Tokyo:20250311T130000
DTSTAMP:20260425T140007
CREATED:20250306T042537Z
LAST-MODIFIED:20250306T042537Z
UID:11937-1741694400-1741698000@viva.setagaya-hp.or.jp
SUMMARY:本日のランチ
DESCRIPTION:ひじきごはん\n赤魚の西京焼き\nなすの酒蒸し\n和風ツナサラダ\nとろろ昆布汁\nアセロラジュレ \n
URL:http://viva.setagaya-hp.or.jp/event/%e6%9c%ac%e6%97%a5%e3%81%ae%e3%83%a9%e3%83%b3%e3%83%81-2023/
END:VEVENT
END:VCALENDAR