BEGIN:VCALENDAR
VERSION:2.0
PRODID:-//ビバ・フローラ - ECPv4.6//NONSGML v1.0//EN
CALSCALE:GREGORIAN
METHOD:PUBLISH
X-WR-CALNAME:ビバ・フローラ
X-ORIGINAL-URL:http://viva.setagaya-hp.or.jp
X-WR-CALDESC:Events for ビバ・フローラ
BEGIN:VEVENT
DTSTART;TZID=Asia/Tokyo:20250324T120000
DTEND;TZID=Asia/Tokyo:20250324T130000
DTSTAMP:20260425T151539
CREATED:20250319T041649Z
LAST-MODIFIED:20250319T041649Z
UID:11969-1742817600-1742821200@viva.setagaya-hp.or.jp
SUMMARY:本日のランチ
DESCRIPTION:ごはん\nアジの南蛮漬け\n大根とさつま揚げの旨煮\n小松菜の磯和え\n冬瓜の味噌汁\nキウイフルーツ \n
URL:http://viva.setagaya-hp.or.jp/event/%e6%9c%ac%e6%97%a5%e3%81%ae%e3%83%a9%e3%83%b3%e3%83%81-2036/
END:VEVENT
END:VCALENDAR