BEGIN:VCALENDAR
VERSION:2.0
PRODID:-//ビバ・フローラ - ECPv4.6//NONSGML v1.0//EN
CALSCALE:GREGORIAN
METHOD:PUBLISH
X-WR-CALNAME:ビバ・フローラ
X-ORIGINAL-URL:http://viva.setagaya-hp.or.jp
X-WR-CALDESC:Events for ビバ・フローラ
BEGIN:VEVENT
DTSTART;TZID=Asia/Tokyo:20250330T120000
DTEND;TZID=Asia/Tokyo:20250330T130000
DTSTAMP:20260425T130947
CREATED:20250325T041327Z
LAST-MODIFIED:20250325T041327Z
UID:11993-1743336000-1743339600@viva.setagaya-hp.or.jp
SUMMARY:本日のランチ
DESCRIPTION:ソース焼きそば\nエビカツ\n中華風和え物\nわかめスープ\n杏仁豆腐 \n
URL:http://viva.setagaya-hp.or.jp/event/%e6%9c%ac%e6%97%a5%e3%81%ae%e3%83%a9%e3%83%b3%e3%83%81-2041/
END:VEVENT
END:VCALENDAR