BEGIN:VCALENDAR
VERSION:2.0
PRODID:-//ビバ・フローラ - ECPv4.6//NONSGML v1.0//EN
CALSCALE:GREGORIAN
METHOD:PUBLISH
X-WR-CALNAME:ビバ・フローラ
X-ORIGINAL-URL:http://viva.setagaya-hp.or.jp
X-WR-CALDESC:Events for ビバ・フローラ
BEGIN:VEVENT
DTSTART;TZID=Asia/Tokyo:20250410T120000
DTEND;TZID=Asia/Tokyo:20250410T130000
DTSTAMP:20260425T144734
CREATED:20250331T054426Z
LAST-MODIFIED:20250331T054426Z
UID:12019-1744286400-1744290000@viva.setagaya-hp.or.jp
SUMMARY:本日のランチ
DESCRIPTION:ごはん\nメバルの煮つけ\n小松菜と厚揚げの煮びたし\nポテトサラダ\n豆腐の味噌汁\nバニラババロア \n
URL:http://viva.setagaya-hp.or.jp/event/%e6%9c%ac%e6%97%a5%e3%81%ae%e3%83%a9%e3%83%b3%e3%83%81-2052/
END:VEVENT
END:VCALENDAR