BEGIN:VCALENDAR
VERSION:2.0
PRODID:-//ビバ・フローラ - ECPv4.6//NONSGML v1.0//EN
CALSCALE:GREGORIAN
METHOD:PUBLISH
X-WR-CALNAME:ビバ・フローラ
X-ORIGINAL-URL:http://viva.setagaya-hp.or.jp
X-WR-CALDESC:Events for ビバ・フローラ
BEGIN:VEVENT
DTSTART;TZID=Asia/Tokyo:20250503T120000
DTEND;TZID=Asia/Tokyo:20250503T130000
DTSTAMP:20260425T102014
CREATED:20250423T011120Z
LAST-MODIFIED:20250423T011120Z
UID:12077-1746273600-1746277200@viva.setagaya-hp.or.jp
SUMMARY:本日のランチ
DESCRIPTION:ごはん\nカジキの香味あんかけ\n焼きビーフン\nカリフラワー梅じそ和え\nかき卵汁\nパインゼリー \n
URL:http://viva.setagaya-hp.or.jp/event/%e6%9c%ac%e6%97%a5%e3%81%ae%e3%83%a9%e3%83%b3%e3%83%81-2074/
END:VEVENT
END:VCALENDAR