BEGIN:VCALENDAR
VERSION:2.0
PRODID:-//ビバ・フローラ - ECPv4.6//NONSGML v1.0//EN
CALSCALE:GREGORIAN
METHOD:PUBLISH
X-WR-CALNAME:ビバ・フローラ
X-ORIGINAL-URL:http://viva.setagaya-hp.or.jp
X-WR-CALDESC:Events for ビバ・フローラ
BEGIN:VEVENT
DTSTART;TZID=Asia/Tokyo:20250507T120000
DTEND;TZID=Asia/Tokyo:20250507T130000
DTSTAMP:20260425T122423
CREATED:20250423T062332Z
LAST-MODIFIED:20250423T062332Z
UID:12085-1746619200-1746622800@viva.setagaya-hp.or.jp
SUMMARY:本日のランチ
DESCRIPTION:枝豆ごはん\nサバの塩焼き\nかぶとベーコンの白だし煮\nアボカドしらすの和風サラダ\nとろろ昆布汁\nフルーツ缶 \n
URL:http://viva.setagaya-hp.or.jp/event/%e6%9c%ac%e6%97%a5%e3%81%ae%e3%83%a9%e3%83%b3%e3%83%81-2078/
END:VEVENT
END:VCALENDAR