BEGIN:VCALENDAR
VERSION:2.0
PRODID:-//ビバ・フローラ - ECPv4.6//NONSGML v1.0//EN
CALSCALE:GREGORIAN
METHOD:PUBLISH
X-WR-CALNAME:ビバ・フローラ
X-ORIGINAL-URL:http://viva.setagaya-hp.or.jp
X-WR-CALDESC:Events for ビバ・フローラ
BEGIN:VEVENT
DTSTART;TZID=Asia/Tokyo:20250508T120000
DTEND;TZID=Asia/Tokyo:20250508T130000
DTSTAMP:20260425T163720
CREATED:20250423T062649Z
LAST-MODIFIED:20250423T062649Z
UID:12087-1746705600-1746709200@viva.setagaya-hp.or.jp
SUMMARY:本日のランチ
DESCRIPTION:ごはん\n麻婆豆腐\n大根のカニあんかけ\n春雨の中華サラダ\n中華スープ\nマンゴープリン \n
URL:http://viva.setagaya-hp.or.jp/event/%e6%9c%ac%e6%97%a5%e3%81%ae%e3%83%a9%e3%83%b3%e3%83%81-2079/
END:VEVENT
END:VCALENDAR