BEGIN:VCALENDAR
VERSION:2.0
PRODID:-//ビバ・フローラ - ECPv4.6//NONSGML v1.0//EN
CALSCALE:GREGORIAN
METHOD:PUBLISH
X-WR-CALNAME:ビバ・フローラ
X-ORIGINAL-URL:http://viva.setagaya-hp.or.jp
X-WR-CALDESC:Events for ビバ・フローラ
BEGIN:VEVENT
DTSTART;TZID=Asia/Tokyo:20250707T120000
DTEND;TZID=Asia/Tokyo:20250707T130000
DTSTAMP:20260425T023006
CREATED:20250703T012417Z
LAST-MODIFIED:20250703T012417Z
UID:12308-1751889600-1751893200@viva.setagaya-hp.or.jp
SUMMARY:本日のランチ
DESCRIPTION:【七夕メニュー】\nちらし寿司\n豚肉となすの味噌炒め\n長芋短冊\nそうめん汁\nメロン \n
URL:http://viva.setagaya-hp.or.jp/event/%e6%9c%ac%e6%97%a5%e3%81%ae%e3%83%a9%e3%83%b3%e3%83%81-2137/
END:VEVENT
END:VCALENDAR