BEGIN:VCALENDAR
VERSION:2.0
PRODID:-//ビバ・フローラ - ECPv4.6//NONSGML v1.0//EN
CALSCALE:GREGORIAN
METHOD:PUBLISH
X-WR-CALNAME:ビバ・フローラ
X-ORIGINAL-URL:http://viva.setagaya-hp.or.jp
X-WR-CALDESC:Events for ビバ・フローラ
BEGIN:VEVENT
DTSTART;TZID=Asia/Tokyo:20250914T120000
DTEND;TZID=Asia/Tokyo:20250914T130000
DTSTAMP:20260425T161118
CREATED:20250908T021736Z
LAST-MODIFIED:20250908T021736Z
UID:12596-1757851200-1757854800@viva.setagaya-hp.or.jp
SUMMARY:本日のランチ
DESCRIPTION:ごはん\n豚肉オイスターソース炒め\n枝豆のふわふわ豆腐\nツナひじき入りサラダ\nフルーツ缶\n中華スープ \n
URL:http://viva.setagaya-hp.or.jp/event/%e6%9c%ac%e6%97%a5%e3%81%ae%e3%83%a9%e3%83%b3%e3%83%81-2204/
END:VEVENT
END:VCALENDAR