BEGIN:VCALENDAR
VERSION:2.0
PRODID:-//ビバ・フローラ - ECPv4.6//NONSGML v1.0//EN
CALSCALE:GREGORIAN
METHOD:PUBLISH
X-WR-CALNAME:ビバ・フローラ
X-ORIGINAL-URL:http://viva.setagaya-hp.or.jp
X-WR-CALDESC:Events for ビバ・フローラ
BEGIN:VEVENT
DTSTART;TZID=Asia/Tokyo:20251127T120000
DTEND;TZID=Asia/Tokyo:20251127T130000
DTSTAMP:20260425T144105
CREATED:20251120T051636Z
LAST-MODIFIED:20251120T051636Z
UID:12825-1764244800-1764248400@viva.setagaya-hp.or.jp
SUMMARY:本日のランチ
DESCRIPTION:深川めし\n赤魚の粕漬け焼き\n大根とさつま揚げの炒め煮\n青菜のカニカマ和え\nもやしの味噌汁\nフルーツ缶 \n
URL:http://viva.setagaya-hp.or.jp/event/%e6%9c%ac%e6%97%a5%e3%81%ae%e3%83%a9%e3%83%b3%e3%83%81-2274/
END:VEVENT
END:VCALENDAR