BEGIN:VCALENDAR
VERSION:2.0
PRODID:-//ビバ・フローラ - ECPv4.6//NONSGML v1.0//EN
CALSCALE:GREGORIAN
METHOD:PUBLISH
X-WR-CALNAME:ビバ・フローラ
X-ORIGINAL-URL:http://viva.setagaya-hp.or.jp
X-WR-CALDESC:Events for ビバ・フローラ
BEGIN:VEVENT
DTSTART;TZID=Asia/Tokyo:20251201T120000
DTEND;TZID=Asia/Tokyo:20251201T130000
DTSTAMP:20260425T102946
CREATED:20251127T043950Z
LAST-MODIFIED:20251127T044644Z
UID:12847-1764590400-1764594000@viva.setagaya-hp.or.jp
SUMMARY:本日のランチ
DESCRIPTION:きのこごはん\n厚揚げ野菜炒め\nなすとピーマンのしぎ煮\nかぼちゃサラダ\nえのきのすまし汁\n黒蜜ほうじ茶ゼリー \n
URL:http://viva.setagaya-hp.or.jp/event/%e6%9c%ac%e6%97%a5%e3%81%ae%e3%83%a9%e3%83%b3%e3%83%81-2278/
END:VEVENT
END:VCALENDAR