BEGIN:VCALENDAR
VERSION:2.0
PRODID:-//ビバ・フローラ - ECPv4.6//NONSGML v1.0//EN
CALSCALE:GREGORIAN
METHOD:PUBLISH
X-WR-CALNAME:ビバ・フローラ
X-ORIGINAL-URL:http://viva.setagaya-hp.or.jp
X-WR-CALDESC:Events for ビバ・フローラ
BEGIN:VEVENT
DTSTART;TZID=Asia/Tokyo:20180620T120000
DTEND;TZID=Asia/Tokyo:20180620T130000
DTSTAMP:20260419T121059
CREATED:20180628T055722Z
LAST-MODIFIED:20180709T045441Z
UID:1453-1529496000-1529499600@viva.setagaya-hp.or.jp
SUMMARY:本日のランチ
DESCRIPTION: \nごはん\nタンドリーチキン\n温野菜サラダ\nオレンジ\nトマトスープ　&#x1f345; \n
URL:http://viva.setagaya-hp.or.jp/event/%e6%9c%ac%e6%97%a5%e3%81%ae%e3%83%a9%e3%83%b3%e3%83%81-23/
END:VEVENT
END:VCALENDAR